BEGIN:VCALENDAR
VERSION:2.0
PRODID:-//The Journey Church - ECPv6.15.20//NONSGML v1.0//EN
CALSCALE:GREGORIAN
METHOD:PUBLISH
X-WR-CALNAME:The Journey Church
X-ORIGINAL-URL:https://thejourneychurch.com
X-WR-CALDESC:Events for The Journey Church
REFRESH-INTERVAL;VALUE=DURATION:PT1H
X-Robots-Tag:noindex
X-PUBLISHED-TTL:PT1H
BEGIN:VTIMEZONE
TZID:America/Denver
BEGIN:DAYLIGHT
TZOFFSETFROM:-0700
TZOFFSETTO:-0600
TZNAME:MDT
DTSTART:20250309T090000
END:DAYLIGHT
BEGIN:STANDARD
TZOFFSETFROM:-0600
TZOFFSETTO:-0700
TZNAME:MST
DTSTART:20251102T080000
END:STANDARD
BEGIN:DAYLIGHT
TZOFFSETFROM:-0700
TZOFFSETTO:-0600
TZNAME:MDT
DTSTART:20260308T090000
END:DAYLIGHT
BEGIN:STANDARD
TZOFFSETFROM:-0600
TZOFFSETTO:-0700
TZNAME:MST
DTSTART:20261101T080000
END:STANDARD
BEGIN:DAYLIGHT
TZOFFSETFROM:-0700
TZOFFSETTO:-0600
TZNAME:MDT
DTSTART:20270314T090000
END:DAYLIGHT
BEGIN:STANDARD
TZOFFSETFROM:-0600
TZOFFSETTO:-0700
TZNAME:MST
DTSTART:20271107T080000
END:STANDARD
END:VTIMEZONE
BEGIN:VEVENT
DTSTART;TZID=America/Denver:20260411T170000
DTEND;TZID=America/Denver:20260411T200000
DTSTAMP:20260425T055708
CREATED:20260125T212947Z
LAST-MODIFIED:20260408T183800Z
UID:10001772-1775926800-1775937600@thejourneychurch.com
SUMMARY:Women's Group
DESCRIPTION:This is a social group for women at The Journey Church. They usually meet on the 2nd Saturday of every month in a member’s home or somewhere in the community. If you’d like to be kept up to date on where the next gathering will be\, please sign up on the Connect Tables at church and Christie Sears Thompson will reach out to you.
URL:https://thejourneychurch.com/event/womens-group-3-3/2026-04-11/
CATEGORIES:Groups
ATTACH;FMTTYPE=image/jpeg:https://thejourneychurch.com/wp-content/uploads/womens-group-scaled.jpg
END:VEVENT
END:VCALENDAR