BEGIN:VCALENDAR
VERSION:2.0
PRODID:-//The Journey Church - ECPv6.15.20//NONSGML v1.0//EN
CALSCALE:GREGORIAN
METHOD:PUBLISH
X-WR-CALNAME:The Journey Church
X-ORIGINAL-URL:https://thejourneychurch.com
X-WR-CALDESC:Events for The Journey Church
REFRESH-INTERVAL;VALUE=DURATION:PT1H
X-Robots-Tag:noindex
X-PUBLISHED-TTL:PT1H
BEGIN:VTIMEZONE
TZID:America/Denver
BEGIN:DAYLIGHT
TZOFFSETFROM:-0700
TZOFFSETTO:-0600
TZNAME:MDT
DTSTART:20240310T090000
END:DAYLIGHT
BEGIN:STANDARD
TZOFFSETFROM:-0600
TZOFFSETTO:-0700
TZNAME:MST
DTSTART:20241103T080000
END:STANDARD
BEGIN:DAYLIGHT
TZOFFSETFROM:-0700
TZOFFSETTO:-0600
TZNAME:MDT
DTSTART:20250309T090000
END:DAYLIGHT
BEGIN:STANDARD
TZOFFSETFROM:-0600
TZOFFSETTO:-0700
TZNAME:MST
DTSTART:20251102T080000
END:STANDARD
BEGIN:DAYLIGHT
TZOFFSETFROM:-0700
TZOFFSETTO:-0600
TZNAME:MDT
DTSTART:20260308T090000
END:DAYLIGHT
BEGIN:STANDARD
TZOFFSETFROM:-0600
TZOFFSETTO:-0700
TZNAME:MST
DTSTART:20261101T080000
END:STANDARD
END:VTIMEZONE
BEGIN:VEVENT
DTSTART;TZID=America/Denver:20250406T103000
DTEND;TZID=America/Denver:20250406T113000
DTSTAMP:20260422T100654
CREATED:20241001T222851Z
LAST-MODIFIED:20241125T200511Z
UID:10000940-1743935400-1743939000@thejourneychurch.com
SUMMARY:Church Service
DESCRIPTION:
URL:https://thejourneychurch.com/event/church-service/2025-04-06/
LOCATION:Rotunda at Front Range Community College\, 3645 West 112th Ave.\, Westminster\, Colorado\, 80031
CATEGORIES:Service
ATTACH;FMTTYPE=image/jpeg:https://thejourneychurch.com/wp-content/uploads/in-person-service-event.jpg
END:VEVENT
BEGIN:VEVENT
DTSTART;TZID=America/Denver:20250406T123000
DTEND;TZID=America/Denver:20250406T140000
DTSTAMP:20260422T100654
CREATED:20250311T184439Z
LAST-MODIFIED:20250325T003706Z
UID:10001606-1743942600-1743948000@thejourneychurch.com
SUMMARY:Young Adults' Group
DESCRIPTION:The YA Group will meet at 12:30 p.m. for lunch at Noodles & Co. on 104th and Federal. This group is for young adults ages 18 and up. If you are not part of the group and would like to join\, please sign up on the connect tables on Sundays at church.
URL:https://thejourneychurch.com/event/young-adults-group-6/2025-04-06/
LOCATION:Noodles & Co.\, 10355 Federal Blvd\, Westminster\, CO\, 80260\, United States
CATEGORIES:Groups
ATTACH;FMTTYPE=image/jpeg:https://thejourneychurch.com/wp-content/uploads/YA-Group-scaled.jpg
END:VEVENT
BEGIN:VEVENT
DTSTART;TZID=America/Denver:20250410T173000
DTEND;TZID=America/Denver:20250410T180000
DTSTAMP:20260422T100654
CREATED:20240226T000400Z
LAST-MODIFIED:20260408T183732Z
UID:10000660-1744306200-1744308000@thejourneychurch.com
SUMMARY:SEVENS Meal
DESCRIPTION:SEVENS is a meal we provide for the homeless and those in need in the Westminster area. At 5:30 p.m. on the second Thursday of each month\, we prepare a home-cooked meal\, serve it\, and clean up afterward.  This meal happens at the Westminster Presbyterian Church (3990 W 74th Ave\, Westminster\, CO 80030).
URL:https://thejourneychurch.com/event/sevens-meal/2025-04-10/
LOCATION:Westminster Presbyterian  Church\, 3990 W 74th Ave\,\, Westminster\, 80030\, United States
CATEGORIES:Compassion Opportunities
ATTACH;FMTTYPE=image/jpeg:https://thejourneychurch.com/wp-content/uploads/sevens-event.jpg
END:VEVENT
BEGIN:VEVENT
DTSTART;TZID=America/Denver:20250412T183000
DTEND;TZID=America/Denver:20250412T200000
DTSTAMP:20260422T100654
CREATED:20250106T175520Z
LAST-MODIFIED:20251104T191226Z
UID:10001478-1744482600-1744488000@thejourneychurch.com
SUMMARY:Women's Group
DESCRIPTION:This is a social group for women at The Journey Church. They usually meet on the 2nd Saturday of every month in a member’s home or somewhere in the community. If you’d like to be kept up to date on where the next gathering will be\, please sign up on the Connect Tables at church and Christie Sears Thompson will reach out to you.
URL:https://thejourneychurch.com/event/womens-group/2025-04-12/
CATEGORIES:Groups
ATTACH;FMTTYPE=image/jpeg:https://thejourneychurch.com/wp-content/uploads/womens-group-scaled.jpg
END:VEVENT
BEGIN:VEVENT
DTSTART;TZID=America/Denver:20250413T103000
DTEND;TZID=America/Denver:20250413T113000
DTSTAMP:20260422T100654
CREATED:20241001T222851Z
LAST-MODIFIED:20241125T200511Z
UID:10000941-1744540200-1744543800@thejourneychurch.com
SUMMARY:Church Service
DESCRIPTION:
URL:https://thejourneychurch.com/event/church-service/2025-04-13/
LOCATION:Rotunda at Front Range Community College\, 3645 West 112th Ave.\, Westminster\, Colorado\, 80031
CATEGORIES:Service
ATTACH;FMTTYPE=image/jpeg:https://thejourneychurch.com/wp-content/uploads/in-person-service-event.jpg
END:VEVENT
BEGIN:VEVENT
DTSTART;TZID=America/Denver:20250418T183000
DTEND;TZID=America/Denver:20250418T203000
DTSTAMP:20260422T100654
CREATED:20240220T210926Z
LAST-MODIFIED:20250414T193408Z
UID:10000323-1745001000-1745008200@thejourneychurch.com
SUMMARY:Agape Feast
DESCRIPTION:The Friday before Easter\, we will have our Good Friday Agape Feast. This was an early church practice of bringing food to share and is an opportunity to remember the death of Christ in a very positive way. On Friday night\, April 18th at 6:30 p.m.\, we’ll gather at Front Range Community College\, in the rotunda area\, for a potluck and a short\, informal service.
URL:https://thejourneychurch.com/event/agape-feast/
LOCATION:Rotunda at Front Range Community College\, 3645 West 112th Ave.\, Westminster\, Colorado\, 80031
CATEGORIES:Community Gatherings
ATTACH;FMTTYPE=image/jpeg:https://thejourneychurch.com/wp-content/uploads/Agape-scaled.jpg
END:VEVENT
BEGIN:VEVENT
DTSTART;TZID=America/Denver:20250420T103000
DTEND;TZID=America/Denver:20250420T113000
DTSTAMP:20260422T100654
CREATED:20241001T222851Z
LAST-MODIFIED:20241125T200511Z
UID:10000942-1745145000-1745148600@thejourneychurch.com
SUMMARY:Church Service
DESCRIPTION:
URL:https://thejourneychurch.com/event/church-service/2025-04-20/
LOCATION:Rotunda at Front Range Community College\, 3645 West 112th Ave.\, Westminster\, Colorado\, 80031
CATEGORIES:Service
ATTACH;FMTTYPE=image/jpeg:https://thejourneychurch.com/wp-content/uploads/in-person-service-event.jpg
END:VEVENT
BEGIN:VEVENT
DTSTART;TZID=America/Denver:20250427T103000
DTEND;TZID=America/Denver:20250427T113000
DTSTAMP:20260422T100654
CREATED:20241001T222851Z
LAST-MODIFIED:20241125T200511Z
UID:10000943-1745749800-1745753400@thejourneychurch.com
SUMMARY:Church Service
DESCRIPTION:
URL:https://thejourneychurch.com/event/church-service/2025-04-27/
LOCATION:Rotunda at Front Range Community College\, 3645 West 112th Ave.\, Westminster\, Colorado\, 80031
CATEGORIES:Service
ATTACH;FMTTYPE=image/jpeg:https://thejourneychurch.com/wp-content/uploads/in-person-service-event.jpg
END:VEVENT
END:VCALENDAR