BEGIN:VCALENDAR
VERSION:2.0
PRODID:-//The Journey Church - ECPv6.15.20//NONSGML v1.0//EN
CALSCALE:GREGORIAN
METHOD:PUBLISH
X-WR-CALNAME:The Journey Church
X-ORIGINAL-URL:https://thejourneychurch.com
X-WR-CALDESC:Events for The Journey Church
REFRESH-INTERVAL;VALUE=DURATION:PT1H
X-Robots-Tag:noindex
X-PUBLISHED-TTL:PT1H
BEGIN:VTIMEZONE
TZID:America/Denver
BEGIN:DAYLIGHT
TZOFFSETFROM:-0700
TZOFFSETTO:-0600
TZNAME:MDT
DTSTART:20240310T090000
END:DAYLIGHT
BEGIN:STANDARD
TZOFFSETFROM:-0600
TZOFFSETTO:-0700
TZNAME:MST
DTSTART:20241103T080000
END:STANDARD
BEGIN:DAYLIGHT
TZOFFSETFROM:-0700
TZOFFSETTO:-0600
TZNAME:MDT
DTSTART:20250309T090000
END:DAYLIGHT
BEGIN:STANDARD
TZOFFSETFROM:-0600
TZOFFSETTO:-0700
TZNAME:MST
DTSTART:20251102T080000
END:STANDARD
BEGIN:DAYLIGHT
TZOFFSETFROM:-0700
TZOFFSETTO:-0600
TZNAME:MDT
DTSTART:20260308T090000
END:DAYLIGHT
BEGIN:STANDARD
TZOFFSETFROM:-0600
TZOFFSETTO:-0700
TZNAME:MST
DTSTART:20261101T080000
END:STANDARD
END:VTIMEZONE
BEGIN:VEVENT
DTSTART;TZID=America/Denver:20250601T103000
DTEND;TZID=America/Denver:20250601T113000
DTSTAMP:20260419T090053
CREATED:20241001T222851Z
LAST-MODIFIED:20241125T200511Z
UID:10000948-1748773800-1748777400@thejourneychurch.com
SUMMARY:Church Service
DESCRIPTION:
URL:https://thejourneychurch.com/event/church-service/2025-06-01/
LOCATION:Rotunda at Front Range Community College\, 3645 West 112th Ave.\, Westminster\, Colorado\, 80031
CATEGORIES:Service
ATTACH;FMTTYPE=image/jpeg:https://thejourneychurch.com/wp-content/uploads/in-person-service-event.jpg
END:VEVENT
BEGIN:VEVENT
DTSTART;TZID=America/Denver:20250608T103000
DTEND;TZID=America/Denver:20250608T113000
DTSTAMP:20260419T090053
CREATED:20241001T222851Z
LAST-MODIFIED:20241125T200511Z
UID:10000949-1749378600-1749382200@thejourneychurch.com
SUMMARY:Church Service
DESCRIPTION:
URL:https://thejourneychurch.com/event/church-service/2025-06-08/
LOCATION:Rotunda at Front Range Community College\, 3645 West 112th Ave.\, Westminster\, Colorado\, 80031
CATEGORIES:Service
ATTACH;FMTTYPE=image/jpeg:https://thejourneychurch.com/wp-content/uploads/in-person-service-event.jpg
END:VEVENT
BEGIN:VEVENT
DTSTART;TZID=America/Denver:20250612T173000
DTEND;TZID=America/Denver:20250612T180000
DTSTAMP:20260419T090053
CREATED:20240226T000400Z
LAST-MODIFIED:20260408T183732Z
UID:10000662-1749749400-1749751200@thejourneychurch.com
SUMMARY:SEVENS Meal
DESCRIPTION:SEVENS is a meal we provide for the homeless and those in need in the Westminster area. At 5:30 p.m. on the second Thursday of each month\, we prepare a home-cooked meal\, serve it\, and clean up afterward.  This meal happens at the Westminster Presbyterian Church (3990 W 74th Ave\, Westminster\, CO 80030).
URL:https://thejourneychurch.com/event/sevens-meal/2025-06-12/
LOCATION:Westminster Presbyterian  Church\, 3990 W 74th Ave\,\, Westminster\, 80030\, United States
CATEGORIES:Compassion Opportunities
ATTACH;FMTTYPE=image/jpeg:https://thejourneychurch.com/wp-content/uploads/sevens-event.jpg
END:VEVENT
BEGIN:VEVENT
DTSTART;TZID=America/Denver:20250615T103000
DTEND;TZID=America/Denver:20250615T113000
DTSTAMP:20260419T090053
CREATED:20241001T222851Z
LAST-MODIFIED:20241125T200511Z
UID:10000950-1749983400-1749987000@thejourneychurch.com
SUMMARY:Church Service
DESCRIPTION:
URL:https://thejourneychurch.com/event/church-service/2025-06-15/
LOCATION:Rotunda at Front Range Community College\, 3645 West 112th Ave.\, Westminster\, Colorado\, 80031
CATEGORIES:Service
ATTACH;FMTTYPE=image/jpeg:https://thejourneychurch.com/wp-content/uploads/in-person-service-event.jpg
END:VEVENT
BEGIN:VEVENT
DTSTART;TZID=America/Denver:20250621T180000
DTEND;TZID=America/Denver:20250621T200000
DTSTAMP:20260419T090053
CREATED:20250106T175520Z
LAST-MODIFIED:20251104T191226Z
UID:10001671-1750528800-1750536000@thejourneychurch.com
SUMMARY:Women's Group
DESCRIPTION:This is a social group for women at The Journey Church. They usually meet on the 2nd Saturday of every month in a member’s home or somewhere in the community. If you’d like to be kept up to date on where the next gathering will be\, please sign up on the Connect Tables at church and Christie Sears Thompson will reach out to you.
URL:https://thejourneychurch.com/event/womens-group/2025-06-21/
CATEGORIES:Groups
ATTACH;FMTTYPE=image/jpeg:https://thejourneychurch.com/wp-content/uploads/womens-group-scaled.jpg
END:VEVENT
BEGIN:VEVENT
DTSTART;TZID=America/Denver:20250622T103000
DTEND;TZID=America/Denver:20250622T113000
DTSTAMP:20260419T090053
CREATED:20241001T222851Z
LAST-MODIFIED:20241125T200511Z
UID:10000951-1750588200-1750591800@thejourneychurch.com
SUMMARY:Church Service
DESCRIPTION:
URL:https://thejourneychurch.com/event/church-service/2025-06-22/
LOCATION:Rotunda at Front Range Community College\, 3645 West 112th Ave.\, Westminster\, Colorado\, 80031
CATEGORIES:Service
ATTACH;FMTTYPE=image/jpeg:https://thejourneychurch.com/wp-content/uploads/in-person-service-event.jpg
END:VEVENT
BEGIN:VEVENT
DTSTART;TZID=America/Denver:20250622T130000
DTEND;TZID=America/Denver:20250622T160000
DTSTAMP:20260419T090053
CREATED:20240526T201246Z
LAST-MODIFIED:20250517T224133Z
UID:10000774-1750597200-1750608000@thejourneychurch.com
SUMMARY:Young Adults' Group
DESCRIPTION:The YA group will be doing BBQ at on June 22 @1pm. This group is for young adults ages 18 and up. If you are not a part of this group and would like to join\, you can sign up at church on Sunday or contact Chris or Natalie. \n 
URL:https://thejourneychurch.com/event/young-adults-group-2/
LOCATION:Home in Thornton
CATEGORIES:Groups
ATTACH;FMTTYPE=image/jpeg:https://thejourneychurch.com/wp-content/uploads/YA-Group-scaled.jpg
END:VEVENT
BEGIN:VEVENT
DTSTART;TZID=America/Denver:20250629T103000
DTEND;TZID=America/Denver:20250629T113000
DTSTAMP:20260419T090053
CREATED:20241001T222851Z
LAST-MODIFIED:20241125T200511Z
UID:10000952-1751193000-1751196600@thejourneychurch.com
SUMMARY:Church Service
DESCRIPTION:
URL:https://thejourneychurch.com/event/church-service/2025-06-29/
LOCATION:Rotunda at Front Range Community College\, 3645 West 112th Ave.\, Westminster\, Colorado\, 80031
CATEGORIES:Service
ATTACH;FMTTYPE=image/jpeg:https://thejourneychurch.com/wp-content/uploads/in-person-service-event.jpg
END:VEVENT
END:VCALENDAR