BEGIN:VCALENDAR
VERSION:2.0
PRODID:-//The Journey Church - ECPv6.15.20//NONSGML v1.0//EN
CALSCALE:GREGORIAN
METHOD:PUBLISH
X-WR-CALNAME:The Journey Church
X-ORIGINAL-URL:https://thejourneychurch.com
X-WR-CALDESC:Events for The Journey Church
REFRESH-INTERVAL;VALUE=DURATION:PT1H
X-Robots-Tag:noindex
X-PUBLISHED-TTL:PT1H
BEGIN:VTIMEZONE
TZID:America/Denver
BEGIN:DAYLIGHT
TZOFFSETFROM:-0700
TZOFFSETTO:-0600
TZNAME:MDT
DTSTART:20250309T090000
END:DAYLIGHT
BEGIN:STANDARD
TZOFFSETFROM:-0600
TZOFFSETTO:-0700
TZNAME:MST
DTSTART:20251102T080000
END:STANDARD
BEGIN:DAYLIGHT
TZOFFSETFROM:-0700
TZOFFSETTO:-0600
TZNAME:MDT
DTSTART:20260308T090000
END:DAYLIGHT
BEGIN:STANDARD
TZOFFSETFROM:-0600
TZOFFSETTO:-0700
TZNAME:MST
DTSTART:20261101T080000
END:STANDARD
BEGIN:DAYLIGHT
TZOFFSETFROM:-0700
TZOFFSETTO:-0600
TZNAME:MDT
DTSTART:20270314T090000
END:DAYLIGHT
BEGIN:STANDARD
TZOFFSETFROM:-0600
TZOFFSETTO:-0700
TZNAME:MST
DTSTART:20271107T080000
END:STANDARD
END:VTIMEZONE
BEGIN:VEVENT
DTSTART;TZID=America/Denver:20260301T103000
DTEND;TZID=America/Denver:20260301T113000
DTSTAMP:20260420T054521
CREATED:20241001T222851Z
LAST-MODIFIED:20241125T200511Z
UID:10000987-1772361000-1772364600@thejourneychurch.com
SUMMARY:Church Service
DESCRIPTION:
URL:https://thejourneychurch.com/event/church-service/2026-03-01/
LOCATION:Rotunda at Front Range Community College\, 3645 West 112th Ave.\, Westminster\, Colorado\, 80031
CATEGORIES:Service
ATTACH;FMTTYPE=image/jpeg:https://thejourneychurch.com/wp-content/uploads/in-person-service-event.jpg
END:VEVENT
BEGIN:VEVENT
DTSTART;TZID=America/Denver:20260308T103000
DTEND;TZID=America/Denver:20260308T113000
DTSTAMP:20260420T054521
CREATED:20241001T222851Z
LAST-MODIFIED:20241125T200511Z
UID:10000988-1772965800-1772969400@thejourneychurch.com
SUMMARY:Church Service
DESCRIPTION:
URL:https://thejourneychurch.com/event/church-service/2026-03-08/
LOCATION:Rotunda at Front Range Community College\, 3645 West 112th Ave.\, Westminster\, Colorado\, 80031
CATEGORIES:Service
ATTACH;FMTTYPE=image/jpeg:https://thejourneychurch.com/wp-content/uploads/in-person-service-event.jpg
END:VEVENT
BEGIN:VEVENT
DTSTART;TZID=America/Denver:20260312T173000
DTEND;TZID=America/Denver:20260312T180000
DTSTAMP:20260420T054521
CREATED:20240226T000400Z
LAST-MODIFIED:20260408T183732Z
UID:10000671-1773336600-1773338400@thejourneychurch.com
SUMMARY:SEVENS Meal
DESCRIPTION:SEVENS is a meal we provide for the homeless and those in need in the Westminster area. At 5:30 p.m. on the second Thursday of each month\, we prepare a home-cooked meal\, serve it\, and clean up afterward.  This meal happens at the Westminster Presbyterian Church (3990 W 74th Ave\, Westminster\, CO 80030).
URL:https://thejourneychurch.com/event/sevens-meal/2026-03-12/
LOCATION:Westminster Presbyterian  Church\, 3990 W 74th Ave\,\, Westminster\, 80030\, United States
CATEGORIES:Compassion Opportunities
ATTACH;FMTTYPE=image/jpeg:https://thejourneychurch.com/wp-content/uploads/sevens-event.jpg
END:VEVENT
BEGIN:VEVENT
DTSTART;TZID=America/Denver:20260314T170000
DTEND;TZID=America/Denver:20260314T200000
DTSTAMP:20260420T054521
CREATED:20260125T212947Z
LAST-MODIFIED:20260408T183800Z
UID:10001771-1773507600-1773518400@thejourneychurch.com
SUMMARY:Women's Group
DESCRIPTION:This is a social group for women at The Journey Church. They usually meet on the 2nd Saturday of every month in a member’s home or somewhere in the community. If you’d like to be kept up to date on where the next gathering will be\, please sign up on the Connect Tables at church and Christie Sears Thompson will reach out to you.
URL:https://thejourneychurch.com/event/womens-group-3-3/2026-03-14/
CATEGORIES:Groups
ATTACH;FMTTYPE=image/jpeg:https://thejourneychurch.com/wp-content/uploads/womens-group-scaled.jpg
END:VEVENT
BEGIN:VEVENT
DTSTART;TZID=America/Denver:20260315T103000
DTEND;TZID=America/Denver:20260315T113000
DTSTAMP:20260420T054521
CREATED:20241001T222851Z
LAST-MODIFIED:20241125T200511Z
UID:10000989-1773570600-1773574200@thejourneychurch.com
SUMMARY:Church Service
DESCRIPTION:
URL:https://thejourneychurch.com/event/church-service/2026-03-15/
LOCATION:Rotunda at Front Range Community College\, 3645 West 112th Ave.\, Westminster\, Colorado\, 80031
CATEGORIES:Service
ATTACH;FMTTYPE=image/jpeg:https://thejourneychurch.com/wp-content/uploads/in-person-service-event.jpg
END:VEVENT
BEGIN:VEVENT
DTSTART;TZID=America/Denver:20260318T190000
DTEND;TZID=America/Denver:20260318T210000
DTSTAMP:20260420T054521
CREATED:20250929T220012Z
LAST-MODIFIED:20260408T183856Z
UID:10001620-1773860400-1773867600@thejourneychurch.com
SUMMARY:Theology on Tap
DESCRIPTION:Meets the third Wednesday of each month (except Nov and Dec) @ 7:00 p.m. We discuss God in an open context that allows freedom of thought\, opinion\, and a dialogue about issues of faith. Join us for open conversations about issues of faith.
URL:https://thejourneychurch.com/event/theology-on-tap-2-2/2026-03-18/
CATEGORIES:Groups
ATTACH;FMTTYPE=image/jpeg:https://thejourneychurch.com/wp-content/uploads/theology-on-tap-event.jpg
END:VEVENT
BEGIN:VEVENT
DTSTART;TZID=America/Denver:20260322T103000
DTEND;TZID=America/Denver:20260322T113000
DTSTAMP:20260420T054521
CREATED:20241001T222851Z
LAST-MODIFIED:20241125T200511Z
UID:10000990-1774175400-1774179000@thejourneychurch.com
SUMMARY:Church Service
DESCRIPTION:
URL:https://thejourneychurch.com/event/church-service/2026-03-22/
LOCATION:Rotunda at Front Range Community College\, 3645 West 112th Ave.\, Westminster\, Colorado\, 80031
CATEGORIES:Service
ATTACH;FMTTYPE=image/jpeg:https://thejourneychurch.com/wp-content/uploads/in-person-service-event.jpg
END:VEVENT
BEGIN:VEVENT
DTSTART;TZID=America/Denver:20260329T103000
DTEND;TZID=America/Denver:20260329T113000
DTSTAMP:20260420T054521
CREATED:20241001T222851Z
LAST-MODIFIED:20241125T200511Z
UID:10000991-1774780200-1774783800@thejourneychurch.com
SUMMARY:Church Service
DESCRIPTION:
URL:https://thejourneychurch.com/event/church-service/2026-03-29/
LOCATION:Rotunda at Front Range Community College\, 3645 West 112th Ave.\, Westminster\, Colorado\, 80031
CATEGORIES:Service
ATTACH;FMTTYPE=image/jpeg:https://thejourneychurch.com/wp-content/uploads/in-person-service-event.jpg
END:VEVENT
END:VCALENDAR