BEGIN:VCALENDAR
VERSION:2.0
PRODID:-//The Journey Church - ECPv6.15.20//NONSGML v1.0//EN
CALSCALE:GREGORIAN
METHOD:PUBLISH
X-WR-CALNAME:The Journey Church
X-ORIGINAL-URL:https://thejourneychurch.com
X-WR-CALDESC:Events for The Journey Church
REFRESH-INTERVAL;VALUE=DURATION:PT1H
X-Robots-Tag:noindex
X-PUBLISHED-TTL:PT1H
BEGIN:VTIMEZONE
TZID:America/Denver
BEGIN:DAYLIGHT
TZOFFSETFROM:-0700
TZOFFSETTO:-0600
TZNAME:MDT
DTSTART:20240310T090000
END:DAYLIGHT
BEGIN:STANDARD
TZOFFSETFROM:-0600
TZOFFSETTO:-0700
TZNAME:MST
DTSTART:20241103T080000
END:STANDARD
BEGIN:DAYLIGHT
TZOFFSETFROM:-0700
TZOFFSETTO:-0600
TZNAME:MDT
DTSTART:20250309T090000
END:DAYLIGHT
BEGIN:STANDARD
TZOFFSETFROM:-0600
TZOFFSETTO:-0700
TZNAME:MST
DTSTART:20251102T080000
END:STANDARD
BEGIN:DAYLIGHT
TZOFFSETFROM:-0700
TZOFFSETTO:-0600
TZNAME:MDT
DTSTART:20260308T090000
END:DAYLIGHT
BEGIN:STANDARD
TZOFFSETFROM:-0600
TZOFFSETTO:-0700
TZNAME:MST
DTSTART:20261101T080000
END:STANDARD
END:VTIMEZONE
BEGIN:VEVENT
DTSTART;TZID=America/Denver:20250316T123000
DTEND;TZID=America/Denver:20250316T140000
DTSTAMP:20260422T153120
CREATED:20250311T184439Z
LAST-MODIFIED:20250325T003706Z
UID:10001605-1742128200-1742133600@thejourneychurch.com
SUMMARY:Young Adults' Group
DESCRIPTION:The YA Group will meet at 12:30 p.m. for lunch at Noodles & Co. on 104th and Federal. This group is for young adults ages 18 and up. If you are not part of the group and would like to join\, please sign up on the connect tables on Sundays at church.
URL:https://thejourneychurch.com/event/young-adults-group-6/2025-03-16/
LOCATION:Noodles & Co.\, 10355 Federal Blvd\, Westminster\, CO\, 80260\, United States
CATEGORIES:Groups
ATTACH;FMTTYPE=image/jpeg:https://thejourneychurch.com/wp-content/uploads/YA-Group-scaled.jpg
END:VEVENT
END:VCALENDAR