BEGIN:VCALENDAR
VERSION:2.0
PRODID:-//The Journey Church - ECPv6.15.20//NONSGML v1.0//EN
CALSCALE:GREGORIAN
METHOD:PUBLISH
X-ORIGINAL-URL:https://thejourneychurch.com
X-WR-CALDESC:Events for The Journey Church
REFRESH-INTERVAL;VALUE=DURATION:PT1H
X-Robots-Tag:noindex
X-PUBLISHED-TTL:PT1H
BEGIN:VTIMEZONE
TZID:America/Denver
BEGIN:DAYLIGHT
TZOFFSETFROM:-0700
TZOFFSETTO:-0600
TZNAME:MDT
DTSTART:20230312T090000
END:DAYLIGHT
BEGIN:STANDARD
TZOFFSETFROM:-0600
TZOFFSETTO:-0700
TZNAME:MST
DTSTART:20231105T080000
END:STANDARD
BEGIN:DAYLIGHT
TZOFFSETFROM:-0700
TZOFFSETTO:-0600
TZNAME:MDT
DTSTART:20240310T090000
END:DAYLIGHT
BEGIN:STANDARD
TZOFFSETFROM:-0600
TZOFFSETTO:-0700
TZNAME:MST
DTSTART:20241103T080000
END:STANDARD
BEGIN:DAYLIGHT
TZOFFSETFROM:-0700
TZOFFSETTO:-0600
TZNAME:MDT
DTSTART:20250309T090000
END:DAYLIGHT
BEGIN:STANDARD
TZOFFSETFROM:-0600
TZOFFSETTO:-0700
TZNAME:MST
DTSTART:20251102T080000
END:STANDARD
BEGIN:DAYLIGHT
TZOFFSETFROM:-0700
TZOFFSETTO:-0600
TZNAME:MDT
DTSTART:20260308T090000
END:DAYLIGHT
BEGIN:STANDARD
TZOFFSETFROM:-0600
TZOFFSETTO:-0700
TZNAME:MST
DTSTART:20261101T080000
END:STANDARD
END:VTIMEZONE
BEGIN:VEVENT
DTSTART;TZID=America/Denver:20251123T100000
DTEND;TZID=America/Denver:20251123T120000
DTSTAMP:20260421T080112
CREATED:20241007T193701Z
LAST-MODIFIED:20251114T212935Z
UID:10001694-1763892000-1763899200@thejourneychurch.com
SUMMARY:Pie Day
DESCRIPTION:Join us for our annual Pie Day! On the Sunday before Thanksgiving each year\, we bring pie\, share\, and socialize before\, during\, and after the church service. Bring any pie you want: chocolate\, pecan\, key lime\, shepherd’s\, chicken pot pie\, or anything you want to call “pie”! We’ll share pie and worship together.
URL:https://thejourneychurch.com/event/pie-day/2025-11-23/
LOCATION:Rotunda at Front Range Community College\, 3645 West 112th Ave.\, Westminster\, Colorado\, 80031
CATEGORIES:Community Gatherings
ATTACH;FMTTYPE=image/jpeg:https://thejourneychurch.com/wp-content/uploads/Pie-day.jpg
END:VEVENT
BEGIN:VEVENT
DTSTART;TZID=America/Denver:20241124T100000
DTEND;TZID=America/Denver:20241124T120000
DTSTAMP:20260421T080112
CREATED:20241007T193701Z
LAST-MODIFIED:20251114T212935Z
UID:10001454-1732442400-1732449600@thejourneychurch.com
SUMMARY:Pie Day
DESCRIPTION:Join us for our annual Pie Day! On the Sunday before Thanksgiving each year\, we bring pie\, share\, and socialize before\, during\, and after the church service. Bring any pie you want: chocolate\, pecan\, key lime\, shepherd’s\, chicken pot pie\, or anything you want to call “pie”! We’ll share pie and worship together.
URL:https://thejourneychurch.com/event/pie-day/2024-11-24/
LOCATION:Rotunda at Front Range Community College\, 3645 West 112th Ave.\, Westminster\, Colorado\, 80031
CATEGORIES:Community Gatherings
ATTACH;FMTTYPE=image/jpeg:https://thejourneychurch.com/wp-content/uploads/Pie-day.jpg
END:VEVENT
END:VCALENDAR