BEGIN:VCALENDAR
VERSION:2.0
PRODID:-//The Journey Church - ECPv6.15.20//NONSGML v1.0//EN
CALSCALE:GREGORIAN
METHOD:PUBLISH
X-ORIGINAL-URL:https://thejourneychurch.com
X-WR-CALDESC:Events for The Journey Church
REFRESH-INTERVAL;VALUE=DURATION:PT1H
X-Robots-Tag:noindex
X-PUBLISHED-TTL:PT1H
BEGIN:VTIMEZONE
TZID:America/Denver
BEGIN:DAYLIGHT
TZOFFSETFROM:-0700
TZOFFSETTO:-0600
TZNAME:MDT
DTSTART:20240310T090000
END:DAYLIGHT
BEGIN:STANDARD
TZOFFSETFROM:-0600
TZOFFSETTO:-0700
TZNAME:MST
DTSTART:20241103T080000
END:STANDARD
BEGIN:DAYLIGHT
TZOFFSETFROM:-0700
TZOFFSETTO:-0600
TZNAME:MDT
DTSTART:20250309T090000
END:DAYLIGHT
BEGIN:STANDARD
TZOFFSETFROM:-0600
TZOFFSETTO:-0700
TZNAME:MST
DTSTART:20251102T080000
END:STANDARD
BEGIN:DAYLIGHT
TZOFFSETFROM:-0700
TZOFFSETTO:-0600
TZNAME:MDT
DTSTART:20260308T090000
END:DAYLIGHT
BEGIN:STANDARD
TZOFFSETFROM:-0600
TZOFFSETTO:-0700
TZNAME:MST
DTSTART:20261101T080000
END:STANDARD
END:VTIMEZONE
BEGIN:VEVENT
DTSTART;TZID=America/Denver:20250504T123000
DTEND;TZID=America/Denver:20250504T140000
DTSTAMP:20260420T084449
CREATED:20250208T192823Z
LAST-MODIFIED:20250429T225715Z
UID:10001537-1746361800-1746367200@thejourneychurch.com
SUMMARY:Young Adults' Group
DESCRIPTION:The YA Group will meet Sunday\, May 4\, at 12:30pm\, at Chipotle on 120th in Broomfield.\n\nThis group is for young adults ages 18 and up. If you are not a part of this group and would like to join\, you can sign up at church on Sunday or contact Chris or Natalie (nataliergreaves@gmail.com\, chrisgreaves14@gmail.com).
URL:https://thejourneychurch.com/event/young-adults-group-5/
LOCATION:Chipotle\, 5160 W. 120th Ave. Unit B\, Broomfield\, CO\, 80020\, United States
CATEGORIES:Groups
ATTACH;FMTTYPE=image/jpeg:https://thejourneychurch.com/wp-content/uploads/YA-Group-scaled.jpg
END:VEVENT
END:VCALENDAR